BEGIN:VCALENDAR
VERSION:2.0
PRODID:-//St Paul&#039;s Anglican Parish - ECPv4.8.1//NONSGML v1.0//EN
CALSCALE:GREGORIAN
METHOD:PUBLISH
X-WR-CALNAME:St Paul&#039;s Anglican Parish
X-ORIGINAL-URL:http://stpaulsbakeryhill.org.au
X-WR-CALDESC:Events for St Paul&#039;s Anglican Parish
BEGIN:VEVENT
DTSTART;TZID=Australia/Melbourne:20190301T100000
DTEND;TZID=Australia/Melbourne:20190301T110000
DTSTAMP:20190227T163553
CREATED:20190214T025023Z
LAST-MODIFIED:20190214T025023Z
UID:755-1551434400-1551438000@stpaulsbakeryhill.org.au
SUMMARY:World Day of Prayer
DESCRIPTION:The theme this year is “Come-everything is ready”. \nYou are invited to join the Christians of Slovakia and three million Christians around the world in a service near you on Friday 1st March. \nA service will be held at St John’s\, Soldiers Hill at 10.00am. \n
URL:http://stpaulsbakeryhill.org.au/event/world-day-of-prayer/
LOCATION:St John’s Solider Hill\, 606 Armstrong Street\, Soldiers Hill\, Vic\, 3350\, Australia
CATEGORIES:St Pauls
END:VEVENT
BEGIN:VEVENT
DTSTART;TZID=Australia/Melbourne:20190302T100000
DTEND;TZID=Australia/Melbourne:20190302T150000
DTSTAMP:20190227T163553
CREATED:20190214T025608Z
LAST-MODIFIED:20190214T025608Z
UID:760-1551520800-1551538800@stpaulsbakeryhill.org.au
SUMMARY:Quiet Day at the Abbey with Bishop Garry
DESCRIPTION:Quiet Day at the Abbey with Marilyn Hope \nLunch provided\, cost $25 per person. \nI invite you to join members of the Cathedral congregation in a Quiet Day at the Abbey. The addresses will be given by the Rev’d Marilyn Hope from the Diocese of Melbourne. \nMarilyn led our Cathedral quiet day and the clergy retreat last year. It is a delight to welcome her back to the Diocese. \nIf anyone needs transport\, please let me know. There are a number of cars going that could take passengers. Please let the Cathedral office know to book a place or put your name on the list at the rear of the Cathedral. \n
URL:http://stpaulsbakeryhill.org.au/event/quiet-day-at-the-abbey-with-bishop-garry/
LOCATION:Anglican Benedictine Abbey of St Mark\, 280 Camperdown-Cobden Road\, Camberdown\, Vic\, 3260\, Australia
CATEGORIES:St Pauls
END:VEVENT
BEGIN:VEVENT
DTSTART;TZID=Australia/Melbourne:20190305T180000
DTEND;TZID=Australia/Melbourne:20190305T193000
DTSTAMP:20190227T163553
CREATED:20190212T012449Z
LAST-MODIFIED:20190212T012527Z
UID:747-1551808800-1551814200@stpaulsbakeryhill.org.au
SUMMARY:Shrove Tuesday
DESCRIPTION: \nDetails Here \n
URL:http://stpaulsbakeryhill.org.au/event/shrove-tuesday/
LOCATION:Wilkinson Hall\, Cnr Barkly and Eureka Steets\, Ballarat East\, Vic\, 3350\, Australia
CATEGORIES:St Pauls
END:VEVENT
BEGIN:VEVENT
DTSTART;TZID=Australia/Melbourne:20190325T110000
DTEND;TZID=Australia/Melbourne:20190325T120000
DTSTAMP:20190227T163553
CREATED:20190221T233104Z
LAST-MODIFIED:20190221T233222Z
UID:770-1553511600-1553515200@stpaulsbakeryhill.org.au
SUMMARY:Lady Day – Mothers Union
DESCRIPTION:Lady Day will be celebrated at the cathedral this year. \nBishop Garry will preside and preach at the service. \nThis will be followed by a luncheon. Members are requested to bring a plate of lunch to share. \n
URL:http://stpaulsbakeryhill.org.au/event/lady-day-mothers-union/
LOCATION:Anglican Cathedral Church of Christ the King – Ballarat\, 49 Lydiard Street South\, Ballarat\, Victoria\, 3350\, Australia
CATEGORIES:St Pauls
END:VEVENT
END:VCALENDAR